BEGIN:VCALENDAR
VERSION:2.0
PRODID:-//Tukios.com/
BEGIN:VEVENT
UID:d423bf58-ebb0-4564-9945-24056a62fb31@www.bagnellfuneralhome.com
DTSTAMP:20260423T223104Z
DTSTART:20260427
SUMMARY:Burial
DESCRIPTION:
URL:https://www.bagnellfuneralhome.com/obituaries/jesse-carroll
LOCATION: 75212 Lee Rd  Covington LA 70435
GEO:30.5229859;-90.0742752
END:VEVENT
END:VCALENDAR