BEGIN:VCALENDAR
VERSION:2.0
PRODID:-//Tukios.com/
BEGIN:VEVENT
UID:cf1b679e-6709-414e-87a6-774152e7aa95@www.bagnellfuneralhome.com
DTSTAMP:20260423T223056Z
DTSTART:20260427T150000Z
DTEND:20260427T170000Z
SUMMARY:Visitation
DESCRIPTION:
URL:https://www.bagnellfuneralhome.com/obituaries/jesse-carroll
LOCATION: 75212 Lee Rd  Covington LA 70435
GEO:30.5228565;-90.0741894
END:VEVENT
END:VCALENDAR