BEGIN:VCALENDAR
VERSION:2.0
PRODID:-//Tukios.com/
BEGIN:VEVENT
UID:e1a2db0d-f80a-46fe-b94f-5a82b188e40b@www.bagnellfuneralhome.com
DTSTAMP:20260421T003546Z
DTSTART:20260423T163000Z
DTEND:20260423T173000Z
SUMMARY:Memorial Service
DESCRIPTION:
URL:https://www.bagnellfuneralhome.com/obituaries/curtis-crawford
LOCATION: 58516 Pearl Acres Rd  Slidell LA 70461
GEO:30.2839966;-89.7355017
END:VEVENT
END:VCALENDAR