BEGIN:VCALENDAR
VERSION:2.0
PRODID:-//Tukios.com/
BEGIN:VEVENT
UID:dee069aa-26c3-45a3-ad6c-4ba7d523999b@www.bagnellfuneralhome.com
DTSTAMP:20260421T003645Z
DTSTART:20260423T153000Z
DTEND:20260423T163000Z
SUMMARY:Visitation
DESCRIPTION:
URL:https://www.bagnellfuneralhome.com/obituaries/curtis-crawford
LOCATION:Grace Memorial Baptist Church 58516 Pearl Acers Road  Slidell LA 
	70461
GEO:30.2839966;-89.7355017
END:VEVENT
END:VCALENDAR